BEGIN:VCALENDAR
VERSION:2.0
PRODID:-//wp-events-plugin.com//7.2.3.1//EN
TZID:Europe/Berlin
X-WR-TIMEZONE:Europe/Berlin
BEGIN:VEVENT
UID:95@barbelroth.de
DTSTART;TZID=Europe/Berlin;VALUE=DATE:20261009
DTEND;TZID=Europe/Berlin;VALUE=DATE:20261012
DTSTAMP:20260410T122635Z
URL:https://www.barbelroth.de/events/feuerwehrfest-3/
SUMMARY:Feuerwehrfest
DESCRIPTION:
CATEGORIES:Feuerwehr
END:VEVENT
BEGIN:VTIMEZONE
TZID:Europe/Berlin
X-LIC-LOCATION:Europe/Berlin
BEGIN:DAYLIGHT
DTSTART:20260329T030000
TZOFFSETFROM:+0100
TZOFFSETTO:+0200
TZNAME:CEST
END:DAYLIGHT
END:VTIMEZONE
END:VCALENDAR